BEGIN:VCALENDAR
VERSION:2.0
PRODID:-//flatheadcasa.org//NONSGML kigkonsult.se iCalcreator 2.30.10//
CALSCALE:GREGORIAN
METHOD:PUBLISH
UID:e98624ea-4941-4f00-a4b5-0da0b910a820
X-WR-CALDESC:
X-WR-RELCALID:c9f3ad1bb2c57c4374daaba6c4986da4
X-WR-TIMEZONE:America/Denver
BEGIN:VTIMEZONE
TZID:America/Denver
BEGIN:STANDARD
TZNAME:MST
DTSTART:20251102T020000
TZOFFSETFROM:-0600
TZOFFSETTO:-0700
RDATE:20261101T020000
RDATE:20271107T020000
END:STANDARD
BEGIN:DAYLIGHT
TZNAME:MDT
DTSTART:20260308T020000
TZOFFSETFROM:-0700
TZOFFSETTO:-0600
RDATE:20270314T020000
END:DAYLIGHT
END:VTIMEZONE
BEGIN:VEVENT
UID:4d862bb6-d1d0-4db5-8213-e77f52cbac58
DTSTAMP:20260420T045702Z
DESCRIPTION:
DTSTART;TZID=America/Denver:20260812T120000
DTEND;TZID=America/Denver:20260812T133000
LOCATION:1203 US Hwy 2W #38\, PO Box 11195\, Kalispell\, MT 59904 US
SUMMARY:CASA 201\, In-service Advocate Training
END:VEVENT
END:VCALENDAR
