BEGIN:VCALENDAR
VERSION:2.0
PRODID:-//flatheadcasa.org//NONSGML kigkonsult.se iCalcreator 2.30.10//
CALSCALE:GREGORIAN
METHOD:PUBLISH
UID:47764cb2-0940-4841-88be-1d929aad75b4
X-WR-CALDESC:CASA's Annual Golf Scramble is great way to support local advo
 cacy for abused and neglected children and have some fun while you're at i
 t! Sign up today! Click the link below.
X-WR-RELCALID:4824a96a2d570858811e3d938fe82d6f
X-WR-TIMEZONE:America/Denver
BEGIN:VTIMEZONE
TZID:America/Denver
BEGIN:STANDARD
TZNAME:MST
DTSTART:20251102T020000
TZOFFSETFROM:-0600
TZOFFSETTO:-0700
RDATE:20261101T020000
RDATE:20271107T020000
END:STANDARD
BEGIN:DAYLIGHT
TZNAME:MDT
DTSTART:20260308T020000
TZOFFSETFROM:-0700
TZOFFSETTO:-0600
RDATE:20270314T020000
RDATE:20280312T020000
END:DAYLIGHT
END:VTIMEZONE
BEGIN:VEVENT
UID:0b5c1e05-f37e-4383-9e2c-885cf3a8d8ff
DTSTAMP:20260422T105900Z
DESCRIPTION:CASA's Annual Golf Scramble is great way to support local advoc
 acy for abused and neglected children and have some fun while you're at it
 ! Sign up today! Click the link below.
DTSTART;TZID=America/Denver:20260918T083000
DTEND;TZID=America/Denver:20260918T140000
LOCATION:Village Greens Golf Course
SUMMARY:Golf Scramble
END:VEVENT
END:VCALENDAR
