BEGIN:VCALENDAR
VERSION:2.0
PRODID:-//flatheadcasa.org//NONSGML kigkonsult.se iCalcreator 2.30.10//
CALSCALE:GREGORIAN
METHOD:PUBLISH
UID:d45f4490-e5a3-464a-8835-efa2745fd722
X-WR-CALDESC:
X-WR-RELCALID:fdbeb0123cb4fc830839ff247b861a55
X-WR-TIMEZONE:America/Denver
BEGIN:VTIMEZONE
TZID:America/Denver
BEGIN:STANDARD
TZNAME:MST
DTSTART:20261101T020000
TZOFFSETFROM:-0600
TZOFFSETTO:-0700
RDATE:20271107T020000
END:STANDARD
BEGIN:DAYLIGHT
TZNAME:MDT
DTSTART:20260308T020000
TZOFFSETFROM:-0700
TZOFFSETTO:-0600
RDATE:20270314T020000
RDATE:20280312T020000
END:DAYLIGHT
END:VTIMEZONE
BEGIN:VEVENT
UID:6b886e09-8d29-4c5a-bd3d-299eb4052a66
DTSTAMP:20260421T032900Z
DESCRIPTION:
DTSTART;TZID=America/Denver:20270210T120000
DTEND;TZID=America/Denver:20270210T133000
LOCATION:1203 US Hwy 2W #38\, PO Box 11195\, Kalispell\, MT 59904 US
SUMMARY:CASA 201\, In-service Advocate Training
END:VEVENT
END:VCALENDAR
