BEGIN:VCALENDAR
VERSION:2.0
PRODID:-//flatheadcasa.org//NONSGML kigkonsult.se iCalcreator 2.30.10//
CALSCALE:GREGORIAN
METHOD:PUBLISH
UID:d11beafd-5170-4aaa-a86f-da58863a4c9a
X-WR-CALDESC:
X-WR-RELCALID:97f7006ec43730989bfcda98e2707765
X-WR-TIMEZONE:America/Denver
BEGIN:VTIMEZONE
TZID:America/Denver
BEGIN:STANDARD
TZNAME:MST
DTSTART:20261101T020000
TZOFFSETFROM:-0600
TZOFFSETTO:-0700
RDATE:20271107T020000
RDATE:20281105T020000
END:STANDARD
BEGIN:DAYLIGHT
TZNAME:MDT
DTSTART:20270314T020000
TZOFFSETFROM:-0700
TZOFFSETTO:-0600
RDATE:20280312T020000
END:DAYLIGHT
END:VTIMEZONE
BEGIN:VEVENT
UID:51797c90-d089-46ab-8390-1216ce440ff1
DTSTAMP:20260421T153712Z
DESCRIPTION:
DTSTART;TZID=America/Denver:20270512T120000
DTEND;TZID=America/Denver:20270512T133000
LOCATION:1203 US Hwy 2W #38\, PO Box 11195\, Kalispell\, MT 59904 US
SUMMARY:CASA 201\, In-service Advocate Training
END:VEVENT
END:VCALENDAR
