BEGIN:VCALENDAR
VERSION:2.0
PRODID:-//flatheadcasa.org//NONSGML kigkonsult.se iCalcreator 2.30.10//
CALSCALE:GREGORIAN
METHOD:PUBLISH
UID:4e35ee92-b0b7-4648-a5d5-236c9251c6b9
X-WR-CALDESC:
X-WR-RELCALID:7dfa58f908d238eafea2abb8ce37a455
X-WR-TIMEZONE:America/Denver
BEGIN:VTIMEZONE
TZID:America/Denver
BEGIN:STANDARD
TZNAME:MST
DTSTART:20271107T020000
TZOFFSETFROM:-0600
TZOFFSETTO:-0700
RDATE:20281105T020000
END:STANDARD
BEGIN:DAYLIGHT
TZNAME:MDT
DTSTART:20270314T020000
TZOFFSETFROM:-0700
TZOFFSETTO:-0600
RDATE:20280312T020000
RDATE:20290311T020000
END:DAYLIGHT
END:VTIMEZONE
BEGIN:VEVENT
UID:bc0e18d9-4908-4f1c-abf2-bf845214d7d9
DTSTAMP:20260424T160115Z
DESCRIPTION:
DTSTART;TZID=America/Denver:20271208T120000
DTEND;TZID=America/Denver:20271208T133000
LOCATION:1203 US Hwy 2W #38\, PO Box 11195\, Kalispell\, MT 59904 US
SUMMARY:CASA 201\, In-service Advocate Training
END:VEVENT
END:VCALENDAR
