BEGIN:VCALENDAR
VERSION:2.0
PRODID:-//flatheadcasa.org//NONSGML kigkonsult.se iCalcreator 2.30.10//
CALSCALE:GREGORIAN
METHOD:PUBLISH
UID:4a0cdace-f471-42ee-80e5-eec9d1c84c78
X-WR-CALDESC:
X-WR-RELCALID:d1e340effe86a6d60a38d458facc311f
X-WR-TIMEZONE:America/Denver
BEGIN:VTIMEZONE
TZID:America/Denver
BEGIN:STANDARD
TZNAME:MST
DTSTART:20271107T020000
TZOFFSETFROM:-0600
TZOFFSETTO:-0700
RDATE:20281105T020000
END:STANDARD
BEGIN:DAYLIGHT
TZNAME:MDT
DTSTART:20280312T020000
TZOFFSETFROM:-0700
TZOFFSETTO:-0600
RDATE:20290311T020000
END:DAYLIGHT
END:VTIMEZONE
BEGIN:VEVENT
UID:bde02475-443c-49da-a2e5-310f304b9a28
DTSTAMP:20260424T225716Z
DESCRIPTION:
DTSTART;TZID=America/Denver:20280412T120000
DTEND;TZID=America/Denver:20280412T133000
LOCATION:1203 US Hwy 2W #38\, PO Box 11195\, Kalispell\, MT 59904 US
SUMMARY:CASA 201\, In-service Advocate Training
END:VEVENT
END:VCALENDAR
